BEGIN:VCALENDAR
VERSION:2.0
PRODID:-//First Christian Church Bowling Green KY - ECPv6.15.17.1//NONSGML v1.0//EN
CALSCALE:GREGORIAN
METHOD:PUBLISH
X-ORIGINAL-URL:https://fccbg.org
X-WR-CALDESC:Events for First Christian Church Bowling Green KY
REFRESH-INTERVAL;VALUE=DURATION:PT1H
X-Robots-Tag:noindex
X-PUBLISHED-TTL:PT1H
BEGIN:VTIMEZONE
TZID:America/Chicago
BEGIN:DAYLIGHT
TZOFFSETFROM:-0600
TZOFFSETTO:-0500
TZNAME:CDT
DTSTART:20260308T080000
END:DAYLIGHT
BEGIN:STANDARD
TZOFFSETFROM:-0500
TZOFFSETTO:-0600
TZNAME:CST
DTSTART:20261101T070000
END:STANDARD
BEGIN:DAYLIGHT
TZOFFSETFROM:-0600
TZOFFSETTO:-0500
TZNAME:CDT
DTSTART:20270314T080000
END:DAYLIGHT
BEGIN:STANDARD
TZOFFSETFROM:-0500
TZOFFSETTO:-0600
TZNAME:CST
DTSTART:20271107T070000
END:STANDARD
BEGIN:DAYLIGHT
TZOFFSETFROM:-0600
TZOFFSETTO:-0500
TZNAME:CDT
DTSTART:20280312T080000
END:DAYLIGHT
BEGIN:STANDARD
TZOFFSETFROM:-0500
TZOFFSETTO:-0600
TZNAME:CST
DTSTART:20281105T070000
END:STANDARD
END:VTIMEZONE
BEGIN:VEVENT
DTSTART;TZID=America/Chicago:20270609T100000
DTEND;TZID=America/Chicago:20270609T110000
DTSTAMP:20260420T120849
CREATED:20260203T153906Z
LAST-MODIFIED:20260203T153906Z
UID:10014247-1812535200-1812538800@fccbg.org
SUMMARY:Women's Ministry
DESCRIPTION:Women’s Ministry meetings are on the second Wednesday of each month at 10am in the youth room. There is a text to read and discuss each time.\nFor any questions\, contact Marilyn Turner marilyn156@twc.com
URL:https://fccbg.org/event/womens-ministry/2027-06-09/
LOCATION:First Christian Church\, 1106 State St.\, Bowling Green\, KY\, 42101\, United States
CATEGORIES:Adult
ATTACH;FMTTYPE=image/png:https://fccbg.org/wp-content/uploads/2024/11/Untitled-45.png
END:VEVENT
END:VCALENDAR