BEGIN:VCALENDAR
VERSION:2.0
PRODID:-//First Christian Church Bowling Green KY - ECPv6.15.17.1//NONSGML v1.0//EN
CALSCALE:GREGORIAN
METHOD:PUBLISH
X-WR-CALNAME:First Christian Church Bowling Green KY
X-ORIGINAL-URL:https://fccbg.org
X-WR-CALDESC:Events for First Christian Church Bowling Green KY
REFRESH-INTERVAL;VALUE=DURATION:PT1H
X-Robots-Tag:noindex
X-PUBLISHED-TTL:PT1H
BEGIN:VTIMEZONE
TZID:America/Chicago
BEGIN:DAYLIGHT
TZOFFSETFROM:-0600
TZOFFSETTO:-0500
TZNAME:CDT
DTSTART:20250309T080000
END:DAYLIGHT
BEGIN:STANDARD
TZOFFSETFROM:-0500
TZOFFSETTO:-0600
TZNAME:CST
DTSTART:20251102T070000
END:STANDARD
BEGIN:DAYLIGHT
TZOFFSETFROM:-0600
TZOFFSETTO:-0500
TZNAME:CDT
DTSTART:20260308T080000
END:DAYLIGHT
BEGIN:STANDARD
TZOFFSETFROM:-0500
TZOFFSETTO:-0600
TZNAME:CST
DTSTART:20261101T070000
END:STANDARD
BEGIN:DAYLIGHT
TZOFFSETFROM:-0600
TZOFFSETTO:-0500
TZNAME:CDT
DTSTART:20270314T080000
END:DAYLIGHT
BEGIN:STANDARD
TZOFFSETFROM:-0500
TZOFFSETTO:-0600
TZNAME:CST
DTSTART:20271107T070000
END:STANDARD
BEGIN:DAYLIGHT
TZOFFSETFROM:-0600
TZOFFSETTO:-0500
TZNAME:CDT
DTSTART:20280312T080000
END:DAYLIGHT
BEGIN:STANDARD
TZOFFSETFROM:-0500
TZOFFSETTO:-0600
TZNAME:CST
DTSTART:20281105T070000
END:STANDARD
BEGIN:DAYLIGHT
TZOFFSETFROM:-0600
TZOFFSETTO:-0500
TZNAME:CDT
DTSTART:20290311T080000
END:DAYLIGHT
BEGIN:STANDARD
TZOFFSETFROM:-0500
TZOFFSETTO:-0600
TZNAME:CST
DTSTART:20291104T070000
END:STANDARD
END:VTIMEZONE
BEGIN:VEVENT
DTSTART;TZID=America/Chicago:20260513T100000
DTEND;TZID=America/Chicago:20260513T110000
DTSTAMP:20260423T131858
CREATED:20260203T153906Z
LAST-MODIFIED:20260203T153906Z
UID:10014234-1778666400-1778670000@fccbg.org
SUMMARY:Women's Ministry
DESCRIPTION:Women’s Ministry meetings are on the second Wednesday of each month at 10am in the youth room. There is a text to read and discuss each time.\nFor any questions\, contact Marilyn Turner marilyn156@twc.com
URL:https://fccbg.org/event/womens-ministry/2026-05-13/
LOCATION:First Christian Church\, 1106 State St.\, Bowling Green\, KY\, 42101\, United States
CATEGORIES:Adult
ATTACH;FMTTYPE=image/png:https://fccbg.org/wp-content/uploads/2024/11/Untitled-45.png
END:VEVENT
BEGIN:VEVENT
DTSTART;TZID=America/Chicago:20260610T100000
DTEND;TZID=America/Chicago:20260610T110000
DTSTAMP:20260423T131858
CREATED:20260203T153906Z
LAST-MODIFIED:20260203T153906Z
UID:10014235-1781085600-1781089200@fccbg.org
SUMMARY:Women's Ministry
DESCRIPTION:Women’s Ministry meetings are on the second Wednesday of each month at 10am in the youth room. There is a text to read and discuss each time.\nFor any questions\, contact Marilyn Turner marilyn156@twc.com
URL:https://fccbg.org/event/womens-ministry/2026-06-10/
LOCATION:First Christian Church\, 1106 State St.\, Bowling Green\, KY\, 42101\, United States
CATEGORIES:Adult
ATTACH;FMTTYPE=image/png:https://fccbg.org/wp-content/uploads/2024/11/Untitled-45.png
END:VEVENT
BEGIN:VEVENT
DTSTART;TZID=America/Chicago:20260708T100000
DTEND;TZID=America/Chicago:20260708T110000
DTSTAMP:20260423T131858
CREATED:20260203T153906Z
LAST-MODIFIED:20260203T153906Z
UID:10014236-1783504800-1783508400@fccbg.org
SUMMARY:Women's Ministry
DESCRIPTION:Women’s Ministry meetings are on the second Wednesday of each month at 10am in the youth room. There is a text to read and discuss each time.\nFor any questions\, contact Marilyn Turner marilyn156@twc.com
URL:https://fccbg.org/event/womens-ministry/2026-07-08/
LOCATION:First Christian Church\, 1106 State St.\, Bowling Green\, KY\, 42101\, United States
CATEGORIES:Adult
ATTACH;FMTTYPE=image/png:https://fccbg.org/wp-content/uploads/2024/11/Untitled-45.png
END:VEVENT
BEGIN:VEVENT
DTSTART;TZID=America/Chicago:20260812T100000
DTEND;TZID=America/Chicago:20260812T110000
DTSTAMP:20260423T131858
CREATED:20260203T153906Z
LAST-MODIFIED:20260203T153906Z
UID:10014237-1786528800-1786532400@fccbg.org
SUMMARY:Women's Ministry
DESCRIPTION:Women’s Ministry meetings are on the second Wednesday of each month at 10am in the youth room. There is a text to read and discuss each time.\nFor any questions\, contact Marilyn Turner marilyn156@twc.com
URL:https://fccbg.org/event/womens-ministry/2026-08-12/
LOCATION:First Christian Church\, 1106 State St.\, Bowling Green\, KY\, 42101\, United States
CATEGORIES:Adult
ATTACH;FMTTYPE=image/png:https://fccbg.org/wp-content/uploads/2024/11/Untitled-45.png
END:VEVENT
BEGIN:VEVENT
DTSTART;TZID=America/Chicago:20260909T100000
DTEND;TZID=America/Chicago:20260909T110000
DTSTAMP:20260423T131858
CREATED:20260203T153906Z
LAST-MODIFIED:20260203T153906Z
UID:10014238-1788948000-1788951600@fccbg.org
SUMMARY:Women's Ministry
DESCRIPTION:Women’s Ministry meetings are on the second Wednesday of each month at 10am in the youth room. There is a text to read and discuss each time.\nFor any questions\, contact Marilyn Turner marilyn156@twc.com
URL:https://fccbg.org/event/womens-ministry/2026-09-09/
LOCATION:First Christian Church\, 1106 State St.\, Bowling Green\, KY\, 42101\, United States
CATEGORIES:Adult
ATTACH;FMTTYPE=image/png:https://fccbg.org/wp-content/uploads/2024/11/Untitled-45.png
END:VEVENT
BEGIN:VEVENT
DTSTART;TZID=America/Chicago:20261014T100000
DTEND;TZID=America/Chicago:20261014T110000
DTSTAMP:20260423T131858
CREATED:20260203T153906Z
LAST-MODIFIED:20260203T153906Z
UID:10014239-1791972000-1791975600@fccbg.org
SUMMARY:Women's Ministry
DESCRIPTION:Women’s Ministry meetings are on the second Wednesday of each month at 10am in the youth room. There is a text to read and discuss each time.\nFor any questions\, contact Marilyn Turner marilyn156@twc.com
URL:https://fccbg.org/event/womens-ministry/2026-10-14/
LOCATION:First Christian Church\, 1106 State St.\, Bowling Green\, KY\, 42101\, United States
CATEGORIES:Adult
ATTACH;FMTTYPE=image/png:https://fccbg.org/wp-content/uploads/2024/11/Untitled-45.png
END:VEVENT
BEGIN:VEVENT
DTSTART;TZID=America/Chicago:20261111T100000
DTEND;TZID=America/Chicago:20261111T110000
DTSTAMP:20260423T131858
CREATED:20260203T153906Z
LAST-MODIFIED:20260203T153906Z
UID:10014240-1794391200-1794394800@fccbg.org
SUMMARY:Women's Ministry
DESCRIPTION:Women’s Ministry meetings are on the second Wednesday of each month at 10am in the youth room. There is a text to read and discuss each time.\nFor any questions\, contact Marilyn Turner marilyn156@twc.com
URL:https://fccbg.org/event/womens-ministry/2026-11-11/
LOCATION:First Christian Church\, 1106 State St.\, Bowling Green\, KY\, 42101\, United States
CATEGORIES:Adult
ATTACH;FMTTYPE=image/png:https://fccbg.org/wp-content/uploads/2024/11/Untitled-45.png
END:VEVENT
BEGIN:VEVENT
DTSTART;TZID=America/Chicago:20261209T100000
DTEND;TZID=America/Chicago:20261209T110000
DTSTAMP:20260423T131858
CREATED:20260203T153906Z
LAST-MODIFIED:20260203T153906Z
UID:10014241-1796810400-1796814000@fccbg.org
SUMMARY:Women's Ministry
DESCRIPTION:Women’s Ministry meetings are on the second Wednesday of each month at 10am in the youth room. There is a text to read and discuss each time.\nFor any questions\, contact Marilyn Turner marilyn156@twc.com
URL:https://fccbg.org/event/womens-ministry/2026-12-09/
LOCATION:First Christian Church\, 1106 State St.\, Bowling Green\, KY\, 42101\, United States
CATEGORIES:Adult
ATTACH;FMTTYPE=image/png:https://fccbg.org/wp-content/uploads/2024/11/Untitled-45.png
END:VEVENT
BEGIN:VEVENT
DTSTART;TZID=America/Chicago:20270113T100000
DTEND;TZID=America/Chicago:20270113T110000
DTSTAMP:20260423T131858
CREATED:20260203T153906Z
LAST-MODIFIED:20260203T153906Z
UID:10014242-1799834400-1799838000@fccbg.org
SUMMARY:Women's Ministry
DESCRIPTION:Women’s Ministry meetings are on the second Wednesday of each month at 10am in the youth room. There is a text to read and discuss each time.\nFor any questions\, contact Marilyn Turner marilyn156@twc.com
URL:https://fccbg.org/event/womens-ministry/2027-01-13/
LOCATION:First Christian Church\, 1106 State St.\, Bowling Green\, KY\, 42101\, United States
CATEGORIES:Adult
ATTACH;FMTTYPE=image/png:https://fccbg.org/wp-content/uploads/2024/11/Untitled-45.png
END:VEVENT
BEGIN:VEVENT
DTSTART;TZID=America/Chicago:20270210T100000
DTEND;TZID=America/Chicago:20270210T110000
DTSTAMP:20260423T131858
CREATED:20260203T153906Z
LAST-MODIFIED:20260203T153906Z
UID:10014243-1802253600-1802257200@fccbg.org
SUMMARY:Women's Ministry
DESCRIPTION:Women’s Ministry meetings are on the second Wednesday of each month at 10am in the youth room. There is a text to read and discuss each time.\nFor any questions\, contact Marilyn Turner marilyn156@twc.com
URL:https://fccbg.org/event/womens-ministry/2027-02-10/
LOCATION:First Christian Church\, 1106 State St.\, Bowling Green\, KY\, 42101\, United States
CATEGORIES:Adult
ATTACH;FMTTYPE=image/png:https://fccbg.org/wp-content/uploads/2024/11/Untitled-45.png
END:VEVENT
BEGIN:VEVENT
DTSTART;TZID=America/Chicago:20270310T100000
DTEND;TZID=America/Chicago:20270310T110000
DTSTAMP:20260423T131858
CREATED:20260203T153906Z
LAST-MODIFIED:20260203T153906Z
UID:10014244-1804672800-1804676400@fccbg.org
SUMMARY:Women's Ministry
DESCRIPTION:Women’s Ministry meetings are on the second Wednesday of each month at 10am in the youth room. There is a text to read and discuss each time.\nFor any questions\, contact Marilyn Turner marilyn156@twc.com
URL:https://fccbg.org/event/womens-ministry/2027-03-10/
LOCATION:First Christian Church\, 1106 State St.\, Bowling Green\, KY\, 42101\, United States
CATEGORIES:Adult
ATTACH;FMTTYPE=image/png:https://fccbg.org/wp-content/uploads/2024/11/Untitled-45.png
END:VEVENT
BEGIN:VEVENT
DTSTART;TZID=America/Chicago:20270414T100000
DTEND;TZID=America/Chicago:20270414T110000
DTSTAMP:20260423T131858
CREATED:20260203T153906Z
LAST-MODIFIED:20260203T153906Z
UID:10014245-1807696800-1807700400@fccbg.org
SUMMARY:Women's Ministry
DESCRIPTION:Women’s Ministry meetings are on the second Wednesday of each month at 10am in the youth room. There is a text to read and discuss each time.\nFor any questions\, contact Marilyn Turner marilyn156@twc.com
URL:https://fccbg.org/event/womens-ministry/2027-04-14/
LOCATION:First Christian Church\, 1106 State St.\, Bowling Green\, KY\, 42101\, United States
CATEGORIES:Adult
ATTACH;FMTTYPE=image/png:https://fccbg.org/wp-content/uploads/2024/11/Untitled-45.png
END:VEVENT
BEGIN:VEVENT
DTSTART;TZID=America/Chicago:20270512T100000
DTEND;TZID=America/Chicago:20270512T110000
DTSTAMP:20260423T131858
CREATED:20260203T153906Z
LAST-MODIFIED:20260203T153906Z
UID:10014246-1810116000-1810119600@fccbg.org
SUMMARY:Women's Ministry
DESCRIPTION:Women’s Ministry meetings are on the second Wednesday of each month at 10am in the youth room. There is a text to read and discuss each time.\nFor any questions\, contact Marilyn Turner marilyn156@twc.com
URL:https://fccbg.org/event/womens-ministry/2027-05-12/
LOCATION:First Christian Church\, 1106 State St.\, Bowling Green\, KY\, 42101\, United States
CATEGORIES:Adult
ATTACH;FMTTYPE=image/png:https://fccbg.org/wp-content/uploads/2024/11/Untitled-45.png
END:VEVENT
BEGIN:VEVENT
DTSTART;TZID=America/Chicago:20270609T100000
DTEND;TZID=America/Chicago:20270609T110000
DTSTAMP:20260423T131858
CREATED:20260203T153906Z
LAST-MODIFIED:20260203T153906Z
UID:10014247-1812535200-1812538800@fccbg.org
SUMMARY:Women's Ministry
DESCRIPTION:Women’s Ministry meetings are on the second Wednesday of each month at 10am in the youth room. There is a text to read and discuss each time.\nFor any questions\, contact Marilyn Turner marilyn156@twc.com
URL:https://fccbg.org/event/womens-ministry/2027-06-09/
LOCATION:First Christian Church\, 1106 State St.\, Bowling Green\, KY\, 42101\, United States
CATEGORIES:Adult
ATTACH;FMTTYPE=image/png:https://fccbg.org/wp-content/uploads/2024/11/Untitled-45.png
END:VEVENT
BEGIN:VEVENT
DTSTART;TZID=America/Chicago:20270714T100000
DTEND;TZID=America/Chicago:20270714T110000
DTSTAMP:20260423T131858
CREATED:20260203T153906Z
LAST-MODIFIED:20260203T153906Z
UID:10014248-1815559200-1815562800@fccbg.org
SUMMARY:Women's Ministry
DESCRIPTION:Women’s Ministry meetings are on the second Wednesday of each month at 10am in the youth room. There is a text to read and discuss each time.\nFor any questions\, contact Marilyn Turner marilyn156@twc.com
URL:https://fccbg.org/event/womens-ministry/2027-07-14/
LOCATION:First Christian Church\, 1106 State St.\, Bowling Green\, KY\, 42101\, United States
CATEGORIES:Adult
ATTACH;FMTTYPE=image/png:https://fccbg.org/wp-content/uploads/2024/11/Untitled-45.png
END:VEVENT
BEGIN:VEVENT
DTSTART;TZID=America/Chicago:20270811T100000
DTEND;TZID=America/Chicago:20270811T110000
DTSTAMP:20260423T131858
CREATED:20260203T153906Z
LAST-MODIFIED:20260203T153906Z
UID:10014249-1817978400-1817982000@fccbg.org
SUMMARY:Women's Ministry
DESCRIPTION:Women’s Ministry meetings are on the second Wednesday of each month at 10am in the youth room. There is a text to read and discuss each time.\nFor any questions\, contact Marilyn Turner marilyn156@twc.com
URL:https://fccbg.org/event/womens-ministry/2027-08-11/
LOCATION:First Christian Church\, 1106 State St.\, Bowling Green\, KY\, 42101\, United States
CATEGORIES:Adult
ATTACH;FMTTYPE=image/png:https://fccbg.org/wp-content/uploads/2024/11/Untitled-45.png
END:VEVENT
BEGIN:VEVENT
DTSTART;TZID=America/Chicago:20270908T100000
DTEND;TZID=America/Chicago:20270908T110000
DTSTAMP:20260423T131858
CREATED:20260203T153906Z
LAST-MODIFIED:20260203T153906Z
UID:10014250-1820397600-1820401200@fccbg.org
SUMMARY:Women's Ministry
DESCRIPTION:Women’s Ministry meetings are on the second Wednesday of each month at 10am in the youth room. There is a text to read and discuss each time.\nFor any questions\, contact Marilyn Turner marilyn156@twc.com
URL:https://fccbg.org/event/womens-ministry/2027-09-08/
LOCATION:First Christian Church\, 1106 State St.\, Bowling Green\, KY\, 42101\, United States
CATEGORIES:Adult
ATTACH;FMTTYPE=image/png:https://fccbg.org/wp-content/uploads/2024/11/Untitled-45.png
END:VEVENT
BEGIN:VEVENT
DTSTART;TZID=America/Chicago:20271013T100000
DTEND;TZID=America/Chicago:20271013T110000
DTSTAMP:20260423T131858
CREATED:20260203T153906Z
LAST-MODIFIED:20260203T153906Z
UID:10014251-1823421600-1823425200@fccbg.org
SUMMARY:Women's Ministry
DESCRIPTION:Women’s Ministry meetings are on the second Wednesday of each month at 10am in the youth room. There is a text to read and discuss each time.\nFor any questions\, contact Marilyn Turner marilyn156@twc.com
URL:https://fccbg.org/event/womens-ministry/2027-10-13/
LOCATION:First Christian Church\, 1106 State St.\, Bowling Green\, KY\, 42101\, United States
CATEGORIES:Adult
ATTACH;FMTTYPE=image/png:https://fccbg.org/wp-content/uploads/2024/11/Untitled-45.png
END:VEVENT
BEGIN:VEVENT
DTSTART;TZID=America/Chicago:20271110T100000
DTEND;TZID=America/Chicago:20271110T110000
DTSTAMP:20260423T131858
CREATED:20260203T153906Z
LAST-MODIFIED:20260203T153906Z
UID:10014252-1825840800-1825844400@fccbg.org
SUMMARY:Women's Ministry
DESCRIPTION:Women’s Ministry meetings are on the second Wednesday of each month at 10am in the youth room. There is a text to read and discuss each time.\nFor any questions\, contact Marilyn Turner marilyn156@twc.com
URL:https://fccbg.org/event/womens-ministry/2027-11-10/
LOCATION:First Christian Church\, 1106 State St.\, Bowling Green\, KY\, 42101\, United States
CATEGORIES:Adult
ATTACH;FMTTYPE=image/png:https://fccbg.org/wp-content/uploads/2024/11/Untitled-45.png
END:VEVENT
BEGIN:VEVENT
DTSTART;TZID=America/Chicago:20271208T100000
DTEND;TZID=America/Chicago:20271208T110000
DTSTAMP:20260423T131858
CREATED:20260203T153906Z
LAST-MODIFIED:20260203T153906Z
UID:10014253-1828260000-1828263600@fccbg.org
SUMMARY:Women's Ministry
DESCRIPTION:Women’s Ministry meetings are on the second Wednesday of each month at 10am in the youth room. There is a text to read and discuss each time.\nFor any questions\, contact Marilyn Turner marilyn156@twc.com
URL:https://fccbg.org/event/womens-ministry/2027-12-08/
LOCATION:First Christian Church\, 1106 State St.\, Bowling Green\, KY\, 42101\, United States
CATEGORIES:Adult
ATTACH;FMTTYPE=image/png:https://fccbg.org/wp-content/uploads/2024/11/Untitled-45.png
END:VEVENT
BEGIN:VEVENT
DTSTART;TZID=America/Chicago:20280112T100000
DTEND;TZID=America/Chicago:20280112T110000
DTSTAMP:20260423T131858
CREATED:20260203T153906Z
LAST-MODIFIED:20260203T153906Z
UID:10014254-1831284000-1831287600@fccbg.org
SUMMARY:Women's Ministry
DESCRIPTION:Women’s Ministry meetings are on the second Wednesday of each month at 10am in the youth room. There is a text to read and discuss each time.\nFor any questions\, contact Marilyn Turner marilyn156@twc.com
URL:https://fccbg.org/event/womens-ministry/2028-01-12/
LOCATION:First Christian Church\, 1106 State St.\, Bowling Green\, KY\, 42101\, United States
CATEGORIES:Adult
ATTACH;FMTTYPE=image/png:https://fccbg.org/wp-content/uploads/2024/11/Untitled-45.png
END:VEVENT
BEGIN:VEVENT
DTSTART;TZID=America/Chicago:20280209T100000
DTEND;TZID=America/Chicago:20280209T110000
DTSTAMP:20260423T131858
CREATED:20260203T153906Z
LAST-MODIFIED:20260203T153906Z
UID:10014255-1833703200-1833706800@fccbg.org
SUMMARY:Women's Ministry
DESCRIPTION:Women’s Ministry meetings are on the second Wednesday of each month at 10am in the youth room. There is a text to read and discuss each time.\nFor any questions\, contact Marilyn Turner marilyn156@twc.com
URL:https://fccbg.org/event/womens-ministry/2028-02-09/
LOCATION:First Christian Church\, 1106 State St.\, Bowling Green\, KY\, 42101\, United States
CATEGORIES:Adult
ATTACH;FMTTYPE=image/png:https://fccbg.org/wp-content/uploads/2024/11/Untitled-45.png
END:VEVENT
BEGIN:VEVENT
DTSTART;TZID=America/Chicago:20280308T100000
DTEND;TZID=America/Chicago:20280308T110000
DTSTAMP:20260423T131858
CREATED:20260203T153906Z
LAST-MODIFIED:20260203T153906Z
UID:10014256-1836122400-1836126000@fccbg.org
SUMMARY:Women's Ministry
DESCRIPTION:Women’s Ministry meetings are on the second Wednesday of each month at 10am in the youth room. There is a text to read and discuss each time.\nFor any questions\, contact Marilyn Turner marilyn156@twc.com
URL:https://fccbg.org/event/womens-ministry/2028-03-08/
LOCATION:First Christian Church\, 1106 State St.\, Bowling Green\, KY\, 42101\, United States
CATEGORIES:Adult
ATTACH;FMTTYPE=image/png:https://fccbg.org/wp-content/uploads/2024/11/Untitled-45.png
END:VEVENT
BEGIN:VEVENT
DTSTART;TZID=America/Chicago:20280412T100000
DTEND;TZID=America/Chicago:20280412T110000
DTSTAMP:20260423T131858
CREATED:20260203T153906Z
LAST-MODIFIED:20260203T153906Z
UID:10014257-1839146400-1839150000@fccbg.org
SUMMARY:Women's Ministry
DESCRIPTION:Women’s Ministry meetings are on the second Wednesday of each month at 10am in the youth room. There is a text to read and discuss each time.\nFor any questions\, contact Marilyn Turner marilyn156@twc.com
URL:https://fccbg.org/event/womens-ministry/2028-04-12/
LOCATION:First Christian Church\, 1106 State St.\, Bowling Green\, KY\, 42101\, United States
CATEGORIES:Adult
ATTACH;FMTTYPE=image/png:https://fccbg.org/wp-content/uploads/2024/11/Untitled-45.png
END:VEVENT
BEGIN:VEVENT
DTSTART;TZID=America/Chicago:20280510T100000
DTEND;TZID=America/Chicago:20280510T110000
DTSTAMP:20260423T131858
CREATED:20260203T153906Z
LAST-MODIFIED:20260203T153906Z
UID:10014258-1841565600-1841569200@fccbg.org
SUMMARY:Women's Ministry
DESCRIPTION:Women’s Ministry meetings are on the second Wednesday of each month at 10am in the youth room. There is a text to read and discuss each time.\nFor any questions\, contact Marilyn Turner marilyn156@twc.com
URL:https://fccbg.org/event/womens-ministry/2028-05-10/
LOCATION:First Christian Church\, 1106 State St.\, Bowling Green\, KY\, 42101\, United States
CATEGORIES:Adult
ATTACH;FMTTYPE=image/png:https://fccbg.org/wp-content/uploads/2024/11/Untitled-45.png
END:VEVENT
BEGIN:VEVENT
DTSTART;TZID=America/Chicago:20280614T100000
DTEND;TZID=America/Chicago:20280614T110000
DTSTAMP:20260423T131858
CREATED:20260203T153906Z
LAST-MODIFIED:20260203T153906Z
UID:10014259-1844589600-1844593200@fccbg.org
SUMMARY:Women's Ministry
DESCRIPTION:Women’s Ministry meetings are on the second Wednesday of each month at 10am in the youth room. There is a text to read and discuss each time.\nFor any questions\, contact Marilyn Turner marilyn156@twc.com
URL:https://fccbg.org/event/womens-ministry/2028-06-14/
LOCATION:First Christian Church\, 1106 State St.\, Bowling Green\, KY\, 42101\, United States
CATEGORIES:Adult
ATTACH;FMTTYPE=image/png:https://fccbg.org/wp-content/uploads/2024/11/Untitled-45.png
END:VEVENT
BEGIN:VEVENT
DTSTART;TZID=America/Chicago:20280712T100000
DTEND;TZID=America/Chicago:20280712T110000
DTSTAMP:20260423T131858
CREATED:20260203T153906Z
LAST-MODIFIED:20260203T153906Z
UID:10014260-1847008800-1847012400@fccbg.org
SUMMARY:Women's Ministry
DESCRIPTION:Women’s Ministry meetings are on the second Wednesday of each month at 10am in the youth room. There is a text to read and discuss each time.\nFor any questions\, contact Marilyn Turner marilyn156@twc.com
URL:https://fccbg.org/event/womens-ministry/2028-07-12/
LOCATION:First Christian Church\, 1106 State St.\, Bowling Green\, KY\, 42101\, United States
CATEGORIES:Adult
ATTACH;FMTTYPE=image/png:https://fccbg.org/wp-content/uploads/2024/11/Untitled-45.png
END:VEVENT
BEGIN:VEVENT
DTSTART;TZID=America/Chicago:20280809T100000
DTEND;TZID=America/Chicago:20280809T110000
DTSTAMP:20260423T131858
CREATED:20260203T153906Z
LAST-MODIFIED:20260203T153906Z
UID:10014261-1849428000-1849431600@fccbg.org
SUMMARY:Women's Ministry
DESCRIPTION:Women’s Ministry meetings are on the second Wednesday of each month at 10am in the youth room. There is a text to read and discuss each time.\nFor any questions\, contact Marilyn Turner marilyn156@twc.com
URL:https://fccbg.org/event/womens-ministry/2028-08-09/
LOCATION:First Christian Church\, 1106 State St.\, Bowling Green\, KY\, 42101\, United States
CATEGORIES:Adult
ATTACH;FMTTYPE=image/png:https://fccbg.org/wp-content/uploads/2024/11/Untitled-45.png
END:VEVENT
BEGIN:VEVENT
DTSTART;TZID=America/Chicago:20280913T100000
DTEND;TZID=America/Chicago:20280913T110000
DTSTAMP:20260423T131858
CREATED:20260203T153906Z
LAST-MODIFIED:20260203T153906Z
UID:10014262-1852452000-1852455600@fccbg.org
SUMMARY:Women's Ministry
DESCRIPTION:Women’s Ministry meetings are on the second Wednesday of each month at 10am in the youth room. There is a text to read and discuss each time.\nFor any questions\, contact Marilyn Turner marilyn156@twc.com
URL:https://fccbg.org/event/womens-ministry/2028-09-13/
LOCATION:First Christian Church\, 1106 State St.\, Bowling Green\, KY\, 42101\, United States
CATEGORIES:Adult
ATTACH;FMTTYPE=image/png:https://fccbg.org/wp-content/uploads/2024/11/Untitled-45.png
END:VEVENT
BEGIN:VEVENT
DTSTART;TZID=America/Chicago:20281011T100000
DTEND;TZID=America/Chicago:20281011T110000
DTSTAMP:20260423T131858
CREATED:20260203T153906Z
LAST-MODIFIED:20260203T153906Z
UID:10014263-1854871200-1854874800@fccbg.org
SUMMARY:Women's Ministry
DESCRIPTION:Women’s Ministry meetings are on the second Wednesday of each month at 10am in the youth room. There is a text to read and discuss each time.\nFor any questions\, contact Marilyn Turner marilyn156@twc.com
URL:https://fccbg.org/event/womens-ministry/2028-10-11/
LOCATION:First Christian Church\, 1106 State St.\, Bowling Green\, KY\, 42101\, United States
CATEGORIES:Adult
ATTACH;FMTTYPE=image/png:https://fccbg.org/wp-content/uploads/2024/11/Untitled-45.png
END:VEVENT
END:VCALENDAR