BEGIN:VCALENDAR
VERSION:2.0
PRODID:-//First Christian Church Bowling Green KY - ECPv6.15.17.1//NONSGML v1.0//EN
CALSCALE:GREGORIAN
METHOD:PUBLISH
X-WR-CALNAME:First Christian Church Bowling Green KY
X-ORIGINAL-URL:https://fccbg.org
X-WR-CALDESC:Events for First Christian Church Bowling Green KY
REFRESH-INTERVAL;VALUE=DURATION:PT1H
X-Robots-Tag:noindex
X-PUBLISHED-TTL:PT1H
BEGIN:VTIMEZONE
TZID:America/Chicago
BEGIN:DAYLIGHT
TZOFFSETFROM:-0600
TZOFFSETTO:-0500
TZNAME:CDT
DTSTART:20250309T080000
END:DAYLIGHT
BEGIN:STANDARD
TZOFFSETFROM:-0500
TZOFFSETTO:-0600
TZNAME:CST
DTSTART:20251102T070000
END:STANDARD
BEGIN:DAYLIGHT
TZOFFSETFROM:-0600
TZOFFSETTO:-0500
TZNAME:CDT
DTSTART:20260308T080000
END:DAYLIGHT
BEGIN:STANDARD
TZOFFSETFROM:-0500
TZOFFSETTO:-0600
TZNAME:CST
DTSTART:20261101T070000
END:STANDARD
BEGIN:DAYLIGHT
TZOFFSETFROM:-0600
TZOFFSETTO:-0500
TZNAME:CDT
DTSTART:20270314T080000
END:DAYLIGHT
BEGIN:STANDARD
TZOFFSETFROM:-0500
TZOFFSETTO:-0600
TZNAME:CST
DTSTART:20271107T070000
END:STANDARD
BEGIN:DAYLIGHT
TZOFFSETFROM:-0600
TZOFFSETTO:-0500
TZNAME:CDT
DTSTART:20280312T080000
END:DAYLIGHT
BEGIN:STANDARD
TZOFFSETFROM:-0500
TZOFFSETTO:-0600
TZNAME:CST
DTSTART:20281105T070000
END:STANDARD
BEGIN:DAYLIGHT
TZOFFSETFROM:-0600
TZOFFSETTO:-0500
TZNAME:CDT
DTSTART:20290311T080000
END:DAYLIGHT
BEGIN:STANDARD
TZOFFSETFROM:-0500
TZOFFSETTO:-0600
TZNAME:CST
DTSTART:20291104T070000
END:STANDARD
END:VTIMEZONE
BEGIN:VEVENT
DTSTART;TZID=America/Chicago:20260505T183000
DTEND;TZID=America/Chicago:20260505T203000
DTSTAMP:20260420T213138
CREATED:20260203T172450Z
LAST-MODIFIED:20260203T172450Z
UID:10014646-1778005800-1778013000@fccbg.org
SUMMARY:LGBTQ+ Small Group
DESCRIPTION:A social and support group celebrating God’s love for LGBTQIA+ people.  We will chat\, laugh\, EAT\, and share our feelings together. Anyone who identifies as a member of the LGBTQIA+ community is welcome to attend.
URL:https://fccbg.org/event/lgbtq-small-group/2026-05-05/
LOCATION:First Christian Church\, 1106 State St.\, Bowling Green\, KY\, 42101\, United States
CATEGORIES:Adult
ATTACH;FMTTYPE=image/png:https://fccbg.org/wp-content/uploads/2026/02/Untitled-67.png
END:VEVENT
BEGIN:VEVENT
DTSTART;TZID=America/Chicago:20260602T183000
DTEND;TZID=America/Chicago:20260602T203000
DTSTAMP:20260420T213138
CREATED:20260203T172450Z
LAST-MODIFIED:20260203T172450Z
UID:10014647-1780425000-1780432200@fccbg.org
SUMMARY:LGBTQ+ Small Group
DESCRIPTION:A social and support group celebrating God’s love for LGBTQIA+ people.  We will chat\, laugh\, EAT\, and share our feelings together. Anyone who identifies as a member of the LGBTQIA+ community is welcome to attend.
URL:https://fccbg.org/event/lgbtq-small-group/2026-06-02/
LOCATION:First Christian Church\, 1106 State St.\, Bowling Green\, KY\, 42101\, United States
CATEGORIES:Adult
ATTACH;FMTTYPE=image/png:https://fccbg.org/wp-content/uploads/2026/02/Untitled-67.png
END:VEVENT
BEGIN:VEVENT
DTSTART;TZID=America/Chicago:20260707T183000
DTEND;TZID=America/Chicago:20260707T203000
DTSTAMP:20260420T213138
CREATED:20260203T172450Z
LAST-MODIFIED:20260203T172450Z
UID:10014648-1783449000-1783456200@fccbg.org
SUMMARY:LGBTQ+ Small Group
DESCRIPTION:A social and support group celebrating God’s love for LGBTQIA+ people.  We will chat\, laugh\, EAT\, and share our feelings together. Anyone who identifies as a member of the LGBTQIA+ community is welcome to attend.
URL:https://fccbg.org/event/lgbtq-small-group/2026-07-07/
LOCATION:First Christian Church\, 1106 State St.\, Bowling Green\, KY\, 42101\, United States
CATEGORIES:Adult
ATTACH;FMTTYPE=image/png:https://fccbg.org/wp-content/uploads/2026/02/Untitled-67.png
END:VEVENT
BEGIN:VEVENT
DTSTART;TZID=America/Chicago:20260804T183000
DTEND;TZID=America/Chicago:20260804T203000
DTSTAMP:20260420T213138
CREATED:20260203T172450Z
LAST-MODIFIED:20260203T172450Z
UID:10014649-1785868200-1785875400@fccbg.org
SUMMARY:LGBTQ+ Small Group
DESCRIPTION:A social and support group celebrating God’s love for LGBTQIA+ people.  We will chat\, laugh\, EAT\, and share our feelings together. Anyone who identifies as a member of the LGBTQIA+ community is welcome to attend.
URL:https://fccbg.org/event/lgbtq-small-group/2026-08-04/
LOCATION:First Christian Church\, 1106 State St.\, Bowling Green\, KY\, 42101\, United States
CATEGORIES:Adult
ATTACH;FMTTYPE=image/png:https://fccbg.org/wp-content/uploads/2026/02/Untitled-67.png
END:VEVENT
BEGIN:VEVENT
DTSTART;TZID=America/Chicago:20260901T183000
DTEND;TZID=America/Chicago:20260901T203000
DTSTAMP:20260420T213138
CREATED:20260203T172450Z
LAST-MODIFIED:20260203T172450Z
UID:10014650-1788287400-1788294600@fccbg.org
SUMMARY:LGBTQ+ Small Group
DESCRIPTION:A social and support group celebrating God’s love for LGBTQIA+ people.  We will chat\, laugh\, EAT\, and share our feelings together. Anyone who identifies as a member of the LGBTQIA+ community is welcome to attend.
URL:https://fccbg.org/event/lgbtq-small-group/2026-09-01/
LOCATION:First Christian Church\, 1106 State St.\, Bowling Green\, KY\, 42101\, United States
CATEGORIES:Adult
ATTACH;FMTTYPE=image/png:https://fccbg.org/wp-content/uploads/2026/02/Untitled-67.png
END:VEVENT
BEGIN:VEVENT
DTSTART;TZID=America/Chicago:20261006T183000
DTEND;TZID=America/Chicago:20261006T203000
DTSTAMP:20260420T213138
CREATED:20260203T172450Z
LAST-MODIFIED:20260203T172450Z
UID:10014651-1791311400-1791318600@fccbg.org
SUMMARY:LGBTQ+ Small Group
DESCRIPTION:A social and support group celebrating God’s love for LGBTQIA+ people.  We will chat\, laugh\, EAT\, and share our feelings together. Anyone who identifies as a member of the LGBTQIA+ community is welcome to attend.
URL:https://fccbg.org/event/lgbtq-small-group/2026-10-06/
LOCATION:First Christian Church\, 1106 State St.\, Bowling Green\, KY\, 42101\, United States
CATEGORIES:Adult
ATTACH;FMTTYPE=image/png:https://fccbg.org/wp-content/uploads/2026/02/Untitled-67.png
END:VEVENT
BEGIN:VEVENT
DTSTART;TZID=America/Chicago:20261103T183000
DTEND;TZID=America/Chicago:20261103T203000
DTSTAMP:20260420T213138
CREATED:20260203T172450Z
LAST-MODIFIED:20260203T172450Z
UID:10014652-1793730600-1793737800@fccbg.org
SUMMARY:LGBTQ+ Small Group
DESCRIPTION:A social and support group celebrating God’s love for LGBTQIA+ people.  We will chat\, laugh\, EAT\, and share our feelings together. Anyone who identifies as a member of the LGBTQIA+ community is welcome to attend.
URL:https://fccbg.org/event/lgbtq-small-group/2026-11-03/
LOCATION:First Christian Church\, 1106 State St.\, Bowling Green\, KY\, 42101\, United States
CATEGORIES:Adult
ATTACH;FMTTYPE=image/png:https://fccbg.org/wp-content/uploads/2026/02/Untitled-67.png
END:VEVENT
BEGIN:VEVENT
DTSTART;TZID=America/Chicago:20261201T183000
DTEND;TZID=America/Chicago:20261201T203000
DTSTAMP:20260420T213138
CREATED:20260203T172450Z
LAST-MODIFIED:20260203T172450Z
UID:10014653-1796149800-1796157000@fccbg.org
SUMMARY:LGBTQ+ Small Group
DESCRIPTION:A social and support group celebrating God’s love for LGBTQIA+ people.  We will chat\, laugh\, EAT\, and share our feelings together. Anyone who identifies as a member of the LGBTQIA+ community is welcome to attend.
URL:https://fccbg.org/event/lgbtq-small-group/2026-12-01/
LOCATION:First Christian Church\, 1106 State St.\, Bowling Green\, KY\, 42101\, United States
CATEGORIES:Adult
ATTACH;FMTTYPE=image/png:https://fccbg.org/wp-content/uploads/2026/02/Untitled-67.png
END:VEVENT
BEGIN:VEVENT
DTSTART;TZID=America/Chicago:20270105T183000
DTEND;TZID=America/Chicago:20270105T203000
DTSTAMP:20260420T213138
CREATED:20260203T172450Z
LAST-MODIFIED:20260203T172450Z
UID:10014654-1799173800-1799181000@fccbg.org
SUMMARY:LGBTQ+ Small Group
DESCRIPTION:A social and support group celebrating God’s love for LGBTQIA+ people.  We will chat\, laugh\, EAT\, and share our feelings together. Anyone who identifies as a member of the LGBTQIA+ community is welcome to attend.
URL:https://fccbg.org/event/lgbtq-small-group/2027-01-05/
LOCATION:First Christian Church\, 1106 State St.\, Bowling Green\, KY\, 42101\, United States
CATEGORIES:Adult
ATTACH;FMTTYPE=image/png:https://fccbg.org/wp-content/uploads/2026/02/Untitled-67.png
END:VEVENT
BEGIN:VEVENT
DTSTART;TZID=America/Chicago:20270202T183000
DTEND;TZID=America/Chicago:20270202T203000
DTSTAMP:20260420T213138
CREATED:20260203T172450Z
LAST-MODIFIED:20260203T172450Z
UID:10014655-1801593000-1801600200@fccbg.org
SUMMARY:LGBTQ+ Small Group
DESCRIPTION:A social and support group celebrating God’s love for LGBTQIA+ people.  We will chat\, laugh\, EAT\, and share our feelings together. Anyone who identifies as a member of the LGBTQIA+ community is welcome to attend.
URL:https://fccbg.org/event/lgbtq-small-group/2027-02-02/
LOCATION:First Christian Church\, 1106 State St.\, Bowling Green\, KY\, 42101\, United States
CATEGORIES:Adult
ATTACH;FMTTYPE=image/png:https://fccbg.org/wp-content/uploads/2026/02/Untitled-67.png
END:VEVENT
BEGIN:VEVENT
DTSTART;TZID=America/Chicago:20270302T183000
DTEND;TZID=America/Chicago:20270302T203000
DTSTAMP:20260420T213138
CREATED:20260203T172450Z
LAST-MODIFIED:20260203T172450Z
UID:10014656-1804012200-1804019400@fccbg.org
SUMMARY:LGBTQ+ Small Group
DESCRIPTION:A social and support group celebrating God’s love for LGBTQIA+ people.  We will chat\, laugh\, EAT\, and share our feelings together. Anyone who identifies as a member of the LGBTQIA+ community is welcome to attend.
URL:https://fccbg.org/event/lgbtq-small-group/2027-03-02/
LOCATION:First Christian Church\, 1106 State St.\, Bowling Green\, KY\, 42101\, United States
CATEGORIES:Adult
ATTACH;FMTTYPE=image/png:https://fccbg.org/wp-content/uploads/2026/02/Untitled-67.png
END:VEVENT
BEGIN:VEVENT
DTSTART;TZID=America/Chicago:20270406T183000
DTEND;TZID=America/Chicago:20270406T203000
DTSTAMP:20260420T213138
CREATED:20260203T172450Z
LAST-MODIFIED:20260203T172450Z
UID:10014657-1807036200-1807043400@fccbg.org
SUMMARY:LGBTQ+ Small Group
DESCRIPTION:A social and support group celebrating God’s love for LGBTQIA+ people.  We will chat\, laugh\, EAT\, and share our feelings together. Anyone who identifies as a member of the LGBTQIA+ community is welcome to attend.
URL:https://fccbg.org/event/lgbtq-small-group/2027-04-06/
LOCATION:First Christian Church\, 1106 State St.\, Bowling Green\, KY\, 42101\, United States
CATEGORIES:Adult
ATTACH;FMTTYPE=image/png:https://fccbg.org/wp-content/uploads/2026/02/Untitled-67.png
END:VEVENT
BEGIN:VEVENT
DTSTART;TZID=America/Chicago:20270504T183000
DTEND;TZID=America/Chicago:20270504T203000
DTSTAMP:20260420T213138
CREATED:20260203T172450Z
LAST-MODIFIED:20260203T172450Z
UID:10014658-1809455400-1809462600@fccbg.org
SUMMARY:LGBTQ+ Small Group
DESCRIPTION:A social and support group celebrating God’s love for LGBTQIA+ people.  We will chat\, laugh\, EAT\, and share our feelings together. Anyone who identifies as a member of the LGBTQIA+ community is welcome to attend.
URL:https://fccbg.org/event/lgbtq-small-group/2027-05-04/
LOCATION:First Christian Church\, 1106 State St.\, Bowling Green\, KY\, 42101\, United States
CATEGORIES:Adult
ATTACH;FMTTYPE=image/png:https://fccbg.org/wp-content/uploads/2026/02/Untitled-67.png
END:VEVENT
BEGIN:VEVENT
DTSTART;TZID=America/Chicago:20270601T183000
DTEND;TZID=America/Chicago:20270601T203000
DTSTAMP:20260420T213138
CREATED:20260203T172450Z
LAST-MODIFIED:20260203T172450Z
UID:10014659-1811874600-1811881800@fccbg.org
SUMMARY:LGBTQ+ Small Group
DESCRIPTION:A social and support group celebrating God’s love for LGBTQIA+ people.  We will chat\, laugh\, EAT\, and share our feelings together. Anyone who identifies as a member of the LGBTQIA+ community is welcome to attend.
URL:https://fccbg.org/event/lgbtq-small-group/2027-06-01/
LOCATION:First Christian Church\, 1106 State St.\, Bowling Green\, KY\, 42101\, United States
CATEGORIES:Adult
ATTACH;FMTTYPE=image/png:https://fccbg.org/wp-content/uploads/2026/02/Untitled-67.png
END:VEVENT
BEGIN:VEVENT
DTSTART;TZID=America/Chicago:20270706T183000
DTEND;TZID=America/Chicago:20270706T203000
DTSTAMP:20260420T213138
CREATED:20260203T172450Z
LAST-MODIFIED:20260203T172450Z
UID:10014660-1814898600-1814905800@fccbg.org
SUMMARY:LGBTQ+ Small Group
DESCRIPTION:A social and support group celebrating God’s love for LGBTQIA+ people.  We will chat\, laugh\, EAT\, and share our feelings together. Anyone who identifies as a member of the LGBTQIA+ community is welcome to attend.
URL:https://fccbg.org/event/lgbtq-small-group/2027-07-06/
LOCATION:First Christian Church\, 1106 State St.\, Bowling Green\, KY\, 42101\, United States
CATEGORIES:Adult
ATTACH;FMTTYPE=image/png:https://fccbg.org/wp-content/uploads/2026/02/Untitled-67.png
END:VEVENT
BEGIN:VEVENT
DTSTART;TZID=America/Chicago:20270803T183000
DTEND;TZID=America/Chicago:20270803T203000
DTSTAMP:20260420T213138
CREATED:20260203T172450Z
LAST-MODIFIED:20260203T172450Z
UID:10014661-1817317800-1817325000@fccbg.org
SUMMARY:LGBTQ+ Small Group
DESCRIPTION:A social and support group celebrating God’s love for LGBTQIA+ people.  We will chat\, laugh\, EAT\, and share our feelings together. Anyone who identifies as a member of the LGBTQIA+ community is welcome to attend.
URL:https://fccbg.org/event/lgbtq-small-group/2027-08-03/
LOCATION:First Christian Church\, 1106 State St.\, Bowling Green\, KY\, 42101\, United States
CATEGORIES:Adult
ATTACH;FMTTYPE=image/png:https://fccbg.org/wp-content/uploads/2026/02/Untitled-67.png
END:VEVENT
BEGIN:VEVENT
DTSTART;TZID=America/Chicago:20270907T183000
DTEND;TZID=America/Chicago:20270907T203000
DTSTAMP:20260420T213138
CREATED:20260203T172450Z
LAST-MODIFIED:20260203T172450Z
UID:10014662-1820341800-1820349000@fccbg.org
SUMMARY:LGBTQ+ Small Group
DESCRIPTION:A social and support group celebrating God’s love for LGBTQIA+ people.  We will chat\, laugh\, EAT\, and share our feelings together. Anyone who identifies as a member of the LGBTQIA+ community is welcome to attend.
URL:https://fccbg.org/event/lgbtq-small-group/2027-09-07/
LOCATION:First Christian Church\, 1106 State St.\, Bowling Green\, KY\, 42101\, United States
CATEGORIES:Adult
ATTACH;FMTTYPE=image/png:https://fccbg.org/wp-content/uploads/2026/02/Untitled-67.png
END:VEVENT
BEGIN:VEVENT
DTSTART;TZID=America/Chicago:20271005T183000
DTEND;TZID=America/Chicago:20271005T203000
DTSTAMP:20260420T213138
CREATED:20260203T172450Z
LAST-MODIFIED:20260203T172450Z
UID:10014663-1822761000-1822768200@fccbg.org
SUMMARY:LGBTQ+ Small Group
DESCRIPTION:A social and support group celebrating God’s love for LGBTQIA+ people.  We will chat\, laugh\, EAT\, and share our feelings together. Anyone who identifies as a member of the LGBTQIA+ community is welcome to attend.
URL:https://fccbg.org/event/lgbtq-small-group/2027-10-05/
LOCATION:First Christian Church\, 1106 State St.\, Bowling Green\, KY\, 42101\, United States
CATEGORIES:Adult
ATTACH;FMTTYPE=image/png:https://fccbg.org/wp-content/uploads/2026/02/Untitled-67.png
END:VEVENT
BEGIN:VEVENT
DTSTART;TZID=America/Chicago:20271102T183000
DTEND;TZID=America/Chicago:20271102T203000
DTSTAMP:20260420T213138
CREATED:20260203T172450Z
LAST-MODIFIED:20260203T172450Z
UID:10014664-1825180200-1825187400@fccbg.org
SUMMARY:LGBTQ+ Small Group
DESCRIPTION:A social and support group celebrating God’s love for LGBTQIA+ people.  We will chat\, laugh\, EAT\, and share our feelings together. Anyone who identifies as a member of the LGBTQIA+ community is welcome to attend.
URL:https://fccbg.org/event/lgbtq-small-group/2027-11-02/
LOCATION:First Christian Church\, 1106 State St.\, Bowling Green\, KY\, 42101\, United States
CATEGORIES:Adult
ATTACH;FMTTYPE=image/png:https://fccbg.org/wp-content/uploads/2026/02/Untitled-67.png
END:VEVENT
BEGIN:VEVENT
DTSTART;TZID=America/Chicago:20271207T183000
DTEND;TZID=America/Chicago:20271207T203000
DTSTAMP:20260420T213138
CREATED:20260203T172450Z
LAST-MODIFIED:20260203T172450Z
UID:10014665-1828204200-1828211400@fccbg.org
SUMMARY:LGBTQ+ Small Group
DESCRIPTION:A social and support group celebrating God’s love for LGBTQIA+ people.  We will chat\, laugh\, EAT\, and share our feelings together. Anyone who identifies as a member of the LGBTQIA+ community is welcome to attend.
URL:https://fccbg.org/event/lgbtq-small-group/2027-12-07/
LOCATION:First Christian Church\, 1106 State St.\, Bowling Green\, KY\, 42101\, United States
CATEGORIES:Adult
ATTACH;FMTTYPE=image/png:https://fccbg.org/wp-content/uploads/2026/02/Untitled-67.png
END:VEVENT
BEGIN:VEVENT
DTSTART;TZID=America/Chicago:20280104T183000
DTEND;TZID=America/Chicago:20280104T203000
DTSTAMP:20260420T213138
CREATED:20260203T172450Z
LAST-MODIFIED:20260203T172450Z
UID:10014666-1830623400-1830630600@fccbg.org
SUMMARY:LGBTQ+ Small Group
DESCRIPTION:A social and support group celebrating God’s love for LGBTQIA+ people.  We will chat\, laugh\, EAT\, and share our feelings together. Anyone who identifies as a member of the LGBTQIA+ community is welcome to attend.
URL:https://fccbg.org/event/lgbtq-small-group/2028-01-04/
LOCATION:First Christian Church\, 1106 State St.\, Bowling Green\, KY\, 42101\, United States
CATEGORIES:Adult
ATTACH;FMTTYPE=image/png:https://fccbg.org/wp-content/uploads/2026/02/Untitled-67.png
END:VEVENT
BEGIN:VEVENT
DTSTART;TZID=America/Chicago:20280201T183000
DTEND;TZID=America/Chicago:20280201T203000
DTSTAMP:20260420T213138
CREATED:20260203T172450Z
LAST-MODIFIED:20260203T172450Z
UID:10014667-1833042600-1833049800@fccbg.org
SUMMARY:LGBTQ+ Small Group
DESCRIPTION:A social and support group celebrating God’s love for LGBTQIA+ people.  We will chat\, laugh\, EAT\, and share our feelings together. Anyone who identifies as a member of the LGBTQIA+ community is welcome to attend.
URL:https://fccbg.org/event/lgbtq-small-group/2028-02-01/
LOCATION:First Christian Church\, 1106 State St.\, Bowling Green\, KY\, 42101\, United States
CATEGORIES:Adult
ATTACH;FMTTYPE=image/png:https://fccbg.org/wp-content/uploads/2026/02/Untitled-67.png
END:VEVENT
BEGIN:VEVENT
DTSTART;TZID=America/Chicago:20280307T183000
DTEND;TZID=America/Chicago:20280307T203000
DTSTAMP:20260420T213138
CREATED:20260203T172450Z
LAST-MODIFIED:20260203T172450Z
UID:10014668-1836066600-1836073800@fccbg.org
SUMMARY:LGBTQ+ Small Group
DESCRIPTION:A social and support group celebrating God’s love for LGBTQIA+ people.  We will chat\, laugh\, EAT\, and share our feelings together. Anyone who identifies as a member of the LGBTQIA+ community is welcome to attend.
URL:https://fccbg.org/event/lgbtq-small-group/2028-03-07/
LOCATION:First Christian Church\, 1106 State St.\, Bowling Green\, KY\, 42101\, United States
CATEGORIES:Adult
ATTACH;FMTTYPE=image/png:https://fccbg.org/wp-content/uploads/2026/02/Untitled-67.png
END:VEVENT
BEGIN:VEVENT
DTSTART;TZID=America/Chicago:20280404T183000
DTEND;TZID=America/Chicago:20280404T203000
DTSTAMP:20260420T213138
CREATED:20260203T172450Z
LAST-MODIFIED:20260203T172450Z
UID:10014669-1838485800-1838493000@fccbg.org
SUMMARY:LGBTQ+ Small Group
DESCRIPTION:A social and support group celebrating God’s love for LGBTQIA+ people.  We will chat\, laugh\, EAT\, and share our feelings together. Anyone who identifies as a member of the LGBTQIA+ community is welcome to attend.
URL:https://fccbg.org/event/lgbtq-small-group/2028-04-04/
LOCATION:First Christian Church\, 1106 State St.\, Bowling Green\, KY\, 42101\, United States
CATEGORIES:Adult
ATTACH;FMTTYPE=image/png:https://fccbg.org/wp-content/uploads/2026/02/Untitled-67.png
END:VEVENT
BEGIN:VEVENT
DTSTART;TZID=America/Chicago:20280502T183000
DTEND;TZID=America/Chicago:20280502T203000
DTSTAMP:20260420T213138
CREATED:20260203T172450Z
LAST-MODIFIED:20260203T172450Z
UID:10014670-1840905000-1840912200@fccbg.org
SUMMARY:LGBTQ+ Small Group
DESCRIPTION:A social and support group celebrating God’s love for LGBTQIA+ people.  We will chat\, laugh\, EAT\, and share our feelings together. Anyone who identifies as a member of the LGBTQIA+ community is welcome to attend.
URL:https://fccbg.org/event/lgbtq-small-group/2028-05-02/
LOCATION:First Christian Church\, 1106 State St.\, Bowling Green\, KY\, 42101\, United States
CATEGORIES:Adult
ATTACH;FMTTYPE=image/png:https://fccbg.org/wp-content/uploads/2026/02/Untitled-67.png
END:VEVENT
BEGIN:VEVENT
DTSTART;TZID=America/Chicago:20280606T183000
DTEND;TZID=America/Chicago:20280606T203000
DTSTAMP:20260420T213138
CREATED:20260203T172450Z
LAST-MODIFIED:20260203T172450Z
UID:10014671-1843929000-1843936200@fccbg.org
SUMMARY:LGBTQ+ Small Group
DESCRIPTION:A social and support group celebrating God’s love for LGBTQIA+ people.  We will chat\, laugh\, EAT\, and share our feelings together. Anyone who identifies as a member of the LGBTQIA+ community is welcome to attend.
URL:https://fccbg.org/event/lgbtq-small-group/2028-06-06/
LOCATION:First Christian Church\, 1106 State St.\, Bowling Green\, KY\, 42101\, United States
CATEGORIES:Adult
ATTACH;FMTTYPE=image/png:https://fccbg.org/wp-content/uploads/2026/02/Untitled-67.png
END:VEVENT
BEGIN:VEVENT
DTSTART;TZID=America/Chicago:20280704T183000
DTEND;TZID=America/Chicago:20280704T203000
DTSTAMP:20260420T213138
CREATED:20260203T172450Z
LAST-MODIFIED:20260203T172450Z
UID:10014672-1846348200-1846355400@fccbg.org
SUMMARY:LGBTQ+ Small Group
DESCRIPTION:A social and support group celebrating God’s love for LGBTQIA+ people.  We will chat\, laugh\, EAT\, and share our feelings together. Anyone who identifies as a member of the LGBTQIA+ community is welcome to attend.
URL:https://fccbg.org/event/lgbtq-small-group/2028-07-04/
LOCATION:First Christian Church\, 1106 State St.\, Bowling Green\, KY\, 42101\, United States
CATEGORIES:Adult
ATTACH;FMTTYPE=image/png:https://fccbg.org/wp-content/uploads/2026/02/Untitled-67.png
END:VEVENT
BEGIN:VEVENT
DTSTART;TZID=America/Chicago:20280801T183000
DTEND;TZID=America/Chicago:20280801T203000
DTSTAMP:20260420T213138
CREATED:20260203T172450Z
LAST-MODIFIED:20260203T172450Z
UID:10014673-1848767400-1848774600@fccbg.org
SUMMARY:LGBTQ+ Small Group
DESCRIPTION:A social and support group celebrating God’s love for LGBTQIA+ people.  We will chat\, laugh\, EAT\, and share our feelings together. Anyone who identifies as a member of the LGBTQIA+ community is welcome to attend.
URL:https://fccbg.org/event/lgbtq-small-group/2028-08-01/
LOCATION:First Christian Church\, 1106 State St.\, Bowling Green\, KY\, 42101\, United States
CATEGORIES:Adult
ATTACH;FMTTYPE=image/png:https://fccbg.org/wp-content/uploads/2026/02/Untitled-67.png
END:VEVENT
BEGIN:VEVENT
DTSTART;TZID=America/Chicago:20280905T183000
DTEND;TZID=America/Chicago:20280905T203000
DTSTAMP:20260420T213138
CREATED:20260203T172450Z
LAST-MODIFIED:20260203T172450Z
UID:10014674-1851791400-1851798600@fccbg.org
SUMMARY:LGBTQ+ Small Group
DESCRIPTION:A social and support group celebrating God’s love for LGBTQIA+ people.  We will chat\, laugh\, EAT\, and share our feelings together. Anyone who identifies as a member of the LGBTQIA+ community is welcome to attend.
URL:https://fccbg.org/event/lgbtq-small-group/2028-09-05/
LOCATION:First Christian Church\, 1106 State St.\, Bowling Green\, KY\, 42101\, United States
CATEGORIES:Adult
ATTACH;FMTTYPE=image/png:https://fccbg.org/wp-content/uploads/2026/02/Untitled-67.png
END:VEVENT
BEGIN:VEVENT
DTSTART;TZID=America/Chicago:20281003T183000
DTEND;TZID=America/Chicago:20281003T203000
DTSTAMP:20260420T213138
CREATED:20260203T172450Z
LAST-MODIFIED:20260203T172450Z
UID:10014675-1854210600-1854217800@fccbg.org
SUMMARY:LGBTQ+ Small Group
DESCRIPTION:A social and support group celebrating God’s love for LGBTQIA+ people.  We will chat\, laugh\, EAT\, and share our feelings together. Anyone who identifies as a member of the LGBTQIA+ community is welcome to attend.
URL:https://fccbg.org/event/lgbtq-small-group/2028-10-03/
LOCATION:First Christian Church\, 1106 State St.\, Bowling Green\, KY\, 42101\, United States
CATEGORIES:Adult
ATTACH;FMTTYPE=image/png:https://fccbg.org/wp-content/uploads/2026/02/Untitled-67.png
END:VEVENT
END:VCALENDAR